BEGIN:VCALENDAR
VERSION:2.0
PRODID:-//JUSMAGTHAI - ECPv6.14.2//NONSGML v1.0//EN
CALSCALE:GREGORIAN
METHOD:PUBLISH
X-WR-CALNAME:JUSMAGTHAI
X-ORIGINAL-URL:https://jusmagthai.org
X-WR-CALDESC:Events for JUSMAGTHAI
REFRESH-INTERVAL;VALUE=DURATION:PT1H
X-Robots-Tag:noindex
X-PUBLISHED-TTL:PT1H
BEGIN:VTIMEZONE
TZID:Asia/Bangkok
BEGIN:STANDARD
TZOFFSETFROM:+0700
TZOFFSETTO:+0700
TZNAME:+07
DTSTART:20260101T000000
END:STANDARD
END:VTIMEZONE
BEGIN:VEVENT
DTSTART;VALUE=DATE:20260413
DTEND;VALUE=DATE:20260416
DTSTAMP:20260424T192328
CREATED:20251122T062502Z
LAST-MODIFIED:20251122T062502Z
UID:6464-1776038400-1776297599@jusmagthai.org
SUMMARY:Songkran Festival
DESCRIPTION:
URL:https://jusmagthai.org/event/songkran-festival-2026/
CATEGORIES:Official Holidays,TH-Holidays
END:VEVENT
BEGIN:VEVENT
DTSTART;VALUE=DATE:20260504
DTEND;VALUE=DATE:20260505
DTSTAMP:20260424T192328
CREATED:20251122T062655Z
LAST-MODIFIED:20251122T062715Z
UID:6466-1777852800-1777939199@jusmagthai.org
SUMMARY:Coronation Day
DESCRIPTION:
URL:https://jusmagthai.org/event/coronation-day-2026/
CATEGORIES:Official Holidays,TH-Holidays
END:VEVENT
BEGIN:VEVENT
DTSTART;VALUE=DATE:20260525
DTEND;VALUE=DATE:20260526
DTSTAMP:20260424T192328
CREATED:20251122T062747Z
LAST-MODIFIED:20251122T062802Z
UID:6468-1779667200-1779753599@jusmagthai.org
SUMMARY:Memorial Day
DESCRIPTION:
URL:https://jusmagthai.org/event/memorial-day-2026/
CATEGORIES:Official Holidays,TH-Holidays
END:VEVENT
BEGIN:VEVENT
DTSTART;VALUE=DATE:20260603
DTEND;VALUE=DATE:20260604
DTSTAMP:20260424T192328
CREATED:20251122T062846Z
LAST-MODIFIED:20251122T062902Z
UID:6470-1780444800-1780531199@jusmagthai.org
SUMMARY:H.M. Queen Suthida Bajrasudhabimalalakshana’s Birthday
DESCRIPTION:
URL:https://jusmagthai.org/event/h-m-queen-suthida-bajrasudhabimalalakshanas-birthday-2026/
CATEGORIES:Official Holidays,TH-Holidays
END:VEVENT
BEGIN:VEVENT
DTSTART;VALUE=DATE:20260619
DTEND;VALUE=DATE:20260620
DTSTAMP:20260424T192328
CREATED:20251122T063019Z
LAST-MODIFIED:20251122T063019Z
UID:6472-1781827200-1781913599@jusmagthai.org
SUMMARY:Juneteenth National Independence Day
DESCRIPTION:
URL:https://jusmagthai.org/event/juneteenth-national-independence-day-2026/
CATEGORIES:Official Holidays,US-Holidays
END:VEVENT
BEGIN:VEVENT
DTSTART;VALUE=DATE:20260703
DTEND;VALUE=DATE:20260704
DTSTAMP:20260424T192328
CREATED:20251122T063103Z
LAST-MODIFIED:20251122T063103Z
UID:6474-1783036800-1783123199@jusmagthai.org
SUMMARY:Independence Day (Observed)
DESCRIPTION:
URL:https://jusmagthai.org/event/independence-day-observed-2026/
CATEGORIES:Official Holidays,US-Holidays
END:VEVENT
BEGIN:VEVENT
DTSTART;VALUE=DATE:20260728
DTEND;VALUE=DATE:20260729
DTSTAMP:20260424T192328
CREATED:20251122T063134Z
LAST-MODIFIED:20251122T063151Z
UID:6476-1785196800-1785283199@jusmagthai.org
SUMMARY:H.M. King Maha Vajiralongkorn Phra Vajiraklaochaoyuhua’s Birthday
DESCRIPTION:
URL:https://jusmagthai.org/event/h-m-king-maha-vajiralongkorn-phra-vajiraklaochaoyuhuas-birthday-2026/
CATEGORIES:Official Holidays,TH-Holidays
END:VEVENT
BEGIN:VEVENT
DTSTART;VALUE=DATE:20260812
DTEND;VALUE=DATE:20260813
DTSTAMP:20260424T192328
CREATED:20251122T063246Z
LAST-MODIFIED:20251122T063246Z
UID:6478-1786492800-1786579199@jusmagthai.org
SUMMARY:H.M. Queen Sirikit the Queen Mother’s Birthday and Mother’s Day
DESCRIPTION:
URL:https://jusmagthai.org/event/h-m-queen-sirikit-the-queen-mothers-birthday-and-mothers-day-2026/
CATEGORIES:Official Holidays,TH-Holidays
END:VEVENT
BEGIN:VEVENT
DTSTART;VALUE=DATE:20260907
DTEND;VALUE=DATE:20260908
DTSTAMP:20260424T192328
CREATED:20251122T063334Z
LAST-MODIFIED:20251122T063334Z
UID:6480-1788739200-1788825599@jusmagthai.org
SUMMARY:Labor Day
DESCRIPTION:
URL:https://jusmagthai.org/event/labor-day-2026/
CATEGORIES:Official Holidays,US-Holidays
END:VEVENT
BEGIN:VEVENT
DTSTART;VALUE=DATE:20261012
DTEND;VALUE=DATE:20261013
DTSTAMP:20260424T192328
CREATED:20251122T063420Z
LAST-MODIFIED:20251122T063420Z
UID:6482-1791763200-1791849599@jusmagthai.org
SUMMARY:Columbus Day
DESCRIPTION:
URL:https://jusmagthai.org/event/columbus-day-2026/
CATEGORIES:Official Holidays,US-Holidays
END:VEVENT
BEGIN:VEVENT
DTSTART;VALUE=DATE:20261023
DTEND;VALUE=DATE:20261024
DTSTAMP:20260424T192328
CREATED:20251122T063502Z
LAST-MODIFIED:20251122T063502Z
UID:6484-1792713600-1792799999@jusmagthai.org
SUMMARY:H.M. King Chulalongkorn the Great Memorial Day
DESCRIPTION:
URL:https://jusmagthai.org/event/h-m-king-chulalongkorn-the-great-memorial-day-2026/
CATEGORIES:Official Holidays,TH-Holidays
END:VEVENT
BEGIN:VEVENT
DTSTART;VALUE=DATE:20261111
DTEND;VALUE=DATE:20261112
DTSTAMP:20260424T192328
CREATED:20251122T063549Z
LAST-MODIFIED:20251122T063549Z
UID:6486-1794355200-1794441599@jusmagthai.org
SUMMARY:Veterans Day
DESCRIPTION:
URL:https://jusmagthai.org/event/veterans-day-2026/
CATEGORIES:Official Holidays,US-Holidays
END:VEVENT
BEGIN:VEVENT
DTSTART;VALUE=DATE:20261126
DTEND;VALUE=DATE:20261127
DTSTAMP:20260424T192328
CREATED:20251122T063626Z
LAST-MODIFIED:20251122T063626Z
UID:6488-1795651200-1795737599@jusmagthai.org
SUMMARY:Thanksgiving Day
DESCRIPTION:
URL:https://jusmagthai.org/event/thanksgiving-day-2026/
CATEGORIES:Official Holidays,US-Holidays
END:VEVENT
BEGIN:VEVENT
DTSTART;VALUE=DATE:20261207
DTEND;VALUE=DATE:20261208
DTSTAMP:20260424T192328
CREATED:20251122T063724Z
LAST-MODIFIED:20251122T063724Z
UID:6490-1796601600-1796687999@jusmagthai.org
SUMMARY:Substitution for H.M. King Bhumibol Adulyadej the Great’s Birthday\, National Day and Father’s Day (Saturday 5th December 2026)
DESCRIPTION:
URL:https://jusmagthai.org/event/substitution-for-h-m-king-bhumibol-adulyadej-the-greats-birthday-national-day-and-fathers-day-saturday-5th-december-2026/
CATEGORIES:Official Holidays,TH-Holidays
END:VEVENT
BEGIN:VEVENT
DTSTART;VALUE=DATE:20261225
DTEND;VALUE=DATE:20261226
DTSTAMP:20260424T192328
CREATED:20251122T063810Z
LAST-MODIFIED:20251122T063824Z
UID:6492-1798156800-1798243199@jusmagthai.org
SUMMARY:Christmas Day
DESCRIPTION:
URL:https://jusmagthai.org/event/christmas-day-2026/
CATEGORIES:Official Holidays,US-Holidays
END:VEVENT
BEGIN:VEVENT
DTSTART;VALUE=DATE:20261231
DTEND;VALUE=DATE:20270101
DTSTAMP:20260424T192328
CREATED:20251122T064054Z
LAST-MODIFIED:20251122T064054Z
UID:6496-1798675200-1798761599@jusmagthai.org
SUMMARY:New Year’s Eve
DESCRIPTION:
URL:https://jusmagthai.org/event/new-years-eve-2026/
CATEGORIES:Official Holidays,TH-Holidays,US-Holidays
END:VEVENT
BEGIN:VEVENT
DTSTART;VALUE=DATE:20270101
DTEND;VALUE=DATE:20270102
DTSTAMP:20260424T192328
CREATED:20251122T064203Z
LAST-MODIFIED:20251122T064203Z
UID:6498-1798761600-1798847999@jusmagthai.org
SUMMARY:New Year’s Day
DESCRIPTION:
URL:https://jusmagthai.org/event/new-years-day-2027/
CATEGORIES:Official Holidays,TH-Holidays,US-Holidays
END:VEVENT
END:VCALENDAR