BEGIN:VCALENDAR
VERSION:2.0
PRODID:-//JUSMAGTHAI - ECPv6.14.2//NONSGML v1.0//EN
CALSCALE:GREGORIAN
METHOD:PUBLISH
X-WR-CALNAME:JUSMAGTHAI
X-ORIGINAL-URL:https://jusmagthai.org
X-WR-CALDESC:Events for JUSMAGTHAI
REFRESH-INTERVAL;VALUE=DURATION:PT1H
X-Robots-Tag:noindex
X-PUBLISHED-TTL:PT1H
BEGIN:VTIMEZONE
TZID:Asia/Bangkok
BEGIN:STANDARD
TZOFFSETFROM:+0700
TZOFFSETTO:+0700
TZNAME:+07
DTSTART:20250101T000000
END:STANDARD
END:VTIMEZONE
BEGIN:VEVENT
DTSTART;VALUE=DATE:20251013
DTEND;VALUE=DATE:20251014
DTSTAMP:20260424T210418
CREATED:20241231T170051Z
LAST-MODIFIED:20250330T185933Z
UID:2831-1760313600-1760399999@jusmagthai.org
SUMMARY:Columbus Day
DESCRIPTION:
URL:https://jusmagthai.org/event/columbus-day/
CATEGORIES:Official Holidays,US-Holidays
END:VEVENT
BEGIN:VEVENT
DTSTART;TZID=Asia/Bangkok:20250926T160000
DTEND;TZID=Asia/Bangkok:20250926T220000
DTSTAMP:20260424T210418
CREATED:20250924T025641Z
LAST-MODIFIED:20250924T025822Z
UID:6153-1758902400-1758924000@jusmagthai.org
SUMMARY:🎉 Join us for Oktoberfest 2025! 🍺
DESCRIPTION:🎉 Join us for Oktoberfest 2025! 🍺 \nCelebrate on September 26\, 2025\, from 4 PM – 10 PM at The Golden Teak House\, Jusmagthai with draft Erdinger Helles and draft Erdinger Radler\, delicious food\, and lively music. Raise your PINT and enjoy an authentic Bavarian experience! 🥨🎶 \nLive music starts at 6:00 PM
URL:https://jusmagthai.org/event/%f0%9f%8e%89-join-us-for-oktoberfest-2025-%f0%9f%8d%ba/
CATEGORIES:Event
END:VEVENT
BEGIN:VEVENT
DTSTART;TZID=Asia/Bangkok:20250910T170000
DTEND;TZID=Asia/Bangkok:20250910T190000
DTSTAMP:20260424T210418
CREATED:20250827T012737Z
LAST-MODIFIED:20250827T012737Z
UID:5994-1757523600-1757530800@jusmagthai.org
SUMMARY:🌟 Kick Up Your Boots: Line Dance Night on Sept 10!
DESCRIPTION:✨ Whine Down Wednesday – Line Dance Night! ✨ \n  Wednesday\, September 10th | 5–7 PM | Only 300 Baht\n \n \nLooking for the perfect way to relax midweek? 👢🎶\nJoin us at the bar on Wednesday\, September 10th for a 2-hour Line Dance Class that’s full of energy\, laughter\, and great vibes. \nFor just 300 baht\, your ticket includes:\n✔️ A fun & easy-to-follow 2-hour dance lesson 🕺💃\n✔️ A FREE drink — choose beer 🍺\, White Claw 🥂\, or soda 🥤\n✔️ The perfect way to meet new friends 👯 and de-stress midweek 🎉 \nDon’t miss out on this Whine Down Wednesday special! 🎶 Whether you’re a total beginner or a seasoned dancer\, this night is all about fun\, good company\, and great drinks.\nWe can’t wait to dance with you!
URL:https://jusmagthai.org/event/%f0%9f%8c%9f-kick-up-your-boots-line-dance-night-on-sept-10/
CATEGORIES:Event
END:VEVENT
BEGIN:VEVENT
DTSTART;VALUE=DATE:20250901
DTEND;VALUE=DATE:20250902
DTSTAMP:20260424T210418
CREATED:20241231T170042Z
LAST-MODIFIED:20250330T185830Z
UID:2829-1756684800-1756771199@jusmagthai.org
SUMMARY:Labor Day
DESCRIPTION:
URL:https://jusmagthai.org/event/labor-day/
CATEGORIES:Official Holidays,US-Holidays
END:VEVENT
BEGIN:VEVENT
DTSTART;TZID=Asia/Bangkok:20250829T170000
DTEND;TZID=Asia/Bangkok:20250829T200000
DTSTAMP:20260424T210418
CREATED:20250820T035650Z
LAST-MODIFIED:20250820T035650Z
UID:5986-1756486800-1756497600@jusmagthai.org
SUMMARY:MARINE CORPS BALL FUNDRAISER - TRIVIA NIGHT AT JUSMAGTHAI
DESCRIPTION:The Marines are hosting a Trivia Ball Fundraiser at JUSMAGTHAI. \nDate: Friday 8/29\nTime: 5-8 PM \nLocation: JUSMAGTHAI – Golden Teak House 7 Sathorn tai Road \nTrivia Answer Cards: 250 Baht\, prizes for the winners \nFood and Beverages for sale by ACSA \nFor more information email : BangkokMSGMWR@state.gov
URL:https://jusmagthai.org/event/marine-corps-ball-fundraiser-trivia-night-at-jusmagthai/
CATEGORIES:Event
END:VEVENT
BEGIN:VEVENT
DTSTART;VALUE=DATE:20250812
DTEND;VALUE=DATE:20250813
DTSTAMP:20260424T210418
CREATED:20241231T170005Z
LAST-MODIFIED:20250330T185738Z
UID:2827-1754956800-1755043199@jusmagthai.org
SUMMARY:H.M. Queen Sirikit the Queen Mother’s Birthday and Mother’s Day
DESCRIPTION:
URL:https://jusmagthai.org/event/h-m-queen-sirikit-the-queen-mothers-birthday-and-mothers-day/
CATEGORIES:Official Holidays,TH-Holidays
END:VEVENT
BEGIN:VEVENT
DTSTART;TZID=Asia/Bangkok:20250804T080000
DTEND;TZID=Asia/Bangkok:20250808T170000
DTSTAMP:20260424T210418
CREATED:20250613T023057Z
LAST-MODIFIED:20250616T091211Z
UID:4227-1754294400-1754672400@jusmagthai.org
SUMMARY:Initial Planning Conference (IPC) Cobra Gold 2026
DESCRIPTION:
URL:https://jusmagthai.org/event/initial-planning-conference-ipc-cobra-gold-2026/
CATEGORIES:Event
END:VEVENT
BEGIN:VEVENT
DTSTART;VALUE=DATE:20250728
DTEND;VALUE=DATE:20250729
DTSTAMP:20260424T210418
CREATED:20241231T170009Z
LAST-MODIFIED:20250330T185645Z
UID:2825-1753660800-1753747199@jusmagthai.org
SUMMARY:H.M. King Maha Vajiralongkorn Phra Vajiraklaochaoyuhua’s Birthday
DESCRIPTION:
URL:https://jusmagthai.org/event/h-m-king-maha-vajiralongkorn-phra-vajiraklaochaoyuhuas-birthday/
CATEGORIES:Official Holidays,TH-Holidays
END:VEVENT
BEGIN:VEVENT
DTSTART;TZID=Asia/Bangkok:20250714T080000
DTEND;TZID=Asia/Bangkok:20250717T170000
DTSTAMP:20260424T210418
CREATED:20250708T035611Z
LAST-MODIFIED:20250724T152409Z
UID:4661-1752480000-1752771600@jusmagthai.org
SUMMARY:Advanced Human Rights/Law of Armed Conflict Training week by DIILS
DESCRIPTION:Advanced Human Rights/Law of Armed Conflict Training by Defense Institute of International Legal Studies (DIILS) \nfor Thai participants from Counter Terrorist Operations Center (CTOC)\, Royal Thai Army (RTA) 1st \, 2nd\, 4th and 5th Special Forces Regiments\, and Special Warfare Command (SWCOM) \nat JUSMAGTHAI from 14-17 July 2025. \nThe objective of the required course\, under U.S. law\, is to promote the observance and respect for human rights and fundamental freedoms\, the law of armed conflict\, civilian control of the military\, and the rule of law.
URL:https://jusmagthai.org/event/advanced-human-rights-law-of-armed-conflict-training-week-by-diils/
LOCATION:JUSMAGTHAI\, United States Military Advisory Council in Thailand (JUSMAGTHAI)\, bangkok\, Sathon\, 10120\, Thailand
CATEGORIES:Event
ORGANIZER;CN="JUSMAGTHAI":MAILTO:jusmagthai@state.gov
END:VEVENT
BEGIN:VEVENT
DTSTART;VALUE=DATE:20250704
DTEND;VALUE=DATE:20250705
DTSTAMP:20260424T210418
CREATED:20241231T170030Z
LAST-MODIFIED:20250330T185510Z
UID:2823-1751587200-1751673599@jusmagthai.org
SUMMARY:Independence Day
DESCRIPTION:
URL:https://jusmagthai.org/event/independence-day/
CATEGORIES:Official Holidays,US-Holidays
END:VEVENT
BEGIN:VEVENT
DTSTART;VALUE=DATE:20250619
DTEND;VALUE=DATE:20250620
DTSTAMP:20260424T210418
CREATED:20241231T170029Z
LAST-MODIFIED:20250330T185423Z
UID:2821-1750291200-1750377599@jusmagthai.org
SUMMARY:Juneteenth National Independence Day
DESCRIPTION:
URL:https://jusmagthai.org/event/juneteenth-national-independence-day/
CATEGORIES:Official Holidays,US-Holidays
END:VEVENT
BEGIN:VEVENT
DTSTART;VALUE=DATE:20250603
DTEND;VALUE=DATE:20250604
DTSTAMP:20260424T210418
CREATED:20241231T170022Z
LAST-MODIFIED:20250330T185309Z
UID:2275-1748908800-1748995199@jusmagthai.org
SUMMARY:H.M. Queen Suthida Bajrasudhabimalalakshana’s Birthday
DESCRIPTION:
URL:https://jusmagthai.org/event/h-m-queen-suthida-bajrasudhabimalalakshanas-birthday/
CATEGORIES:Official Holidays,TH-Holidays
END:VEVENT
BEGIN:VEVENT
DTSTART;VALUE=DATE:20250526
DTEND;VALUE=DATE:20250527
DTSTAMP:20260424T210418
CREATED:20241231T170058Z
LAST-MODIFIED:20250330T075546Z
UID:2273-1748217600-1748303999@jusmagthai.org
SUMMARY:Memorial Day
DESCRIPTION:
URL:https://jusmagthai.org/event/memorial-day/
CATEGORIES:Official Holidays,US-Holidays
END:VEVENT
BEGIN:VEVENT
DTSTART;VALUE=DATE:20250505
DTEND;VALUE=DATE:20250506
DTSTAMP:20260424T210418
CREATED:20241231T170020Z
LAST-MODIFIED:20250330T075757Z
UID:1900-1746403200-1746489599@jusmagthai.org
SUMMARY:Substitution for Coronation Day
DESCRIPTION:
URL:https://jusmagthai.org/event/substitution-for-coronation-day/
CATEGORIES:Official Holidays,TH-Holidays
END:VEVENT
BEGIN:VEVENT
DTSTART;VALUE=DATE:20250414
DTEND;VALUE=DATE:20250416
DTSTAMP:20260424T210418
CREATED:20241231T170036Z
LAST-MODIFIED:20250330T075616Z
UID:205-1744588800-1744761599@jusmagthai.org
SUMMARY:Songkran Festival
DESCRIPTION:
URL:https://jusmagthai.org/event/songkran-festival/
CATEGORIES:Official Holidays,TH-Holidays
END:VEVENT
BEGIN:VEVENT
DTSTART;VALUE=DATE:20250407
DTEND;VALUE=DATE:20250408
DTSTAMP:20260424T210418
CREATED:20241231T170056Z
LAST-MODIFIED:20250404T140732Z
UID:203-1743984000-1744070399@jusmagthai.org
SUMMARY:Substitution for Chakri Memorial Day
DESCRIPTION:
URL:https://jusmagthai.org/event/substitution-for-chakri-memorial-day/
CATEGORIES:Official Holidays,TH-Holidays
END:VEVENT
BEGIN:VEVENT
DTSTART;VALUE=DATE:20250303
DTEND;VALUE=DATE:20250304
DTSTAMP:20260424T210418
CREATED:20250303T010055Z
LAST-MODIFIED:20250330T074922Z
UID:542-1740960000-1741046399@jusmagthai.org
SUMMARY:COBRA GOLD EXERCISE 2025: AMPHIBEX
DESCRIPTION:Our Cobra Gold members were working hard and demonstrating the awesome power of partnership and\ninteroperability during an amphibious exercise in Hat Yao\,Thailand\,March 3\,2025.\nParticipating countries in AMPHIBEX included the U.S.\,Thai\,Republic of Korea\,and Singaporean armed\nforces.Cobra Gold is the largest joint exercise in mainland Asia\,taking place from Feb.26-Mar.8\,2025.\nCobra Gold highlights the strong partnership between Thailand and the United States while strengthening\ninteroperability and enhancing readiness through field exercises\,disaster simulations and humanitarian\nprojects with allied and partnered nations and civilian agencies.
URL:https://jusmagthai.org/event/cobra-gold-exercise-2025-amphibex/
CATEGORIES:Event
ATTACH;FMTTYPE=image/jpeg:https://jusmagthai.org/wp-content/uploads/2025/01/LINE_ALBUM_AMPHIBEX_250318_1.jpg
END:VEVENT
BEGIN:VEVENT
DTSTART;VALUE=DATE:20250225
DTEND;VALUE=DATE:20250226
DTSTAMP:20260424T210418
CREATED:20250225T010010Z
LAST-MODIFIED:20250330T074922Z
UID:553-1740441600-1740527999@jusmagthai.org
SUMMARY:COBRA GOLD EXERCISE 2025: Open ceremony – Gen. Ronald Clark speech
DESCRIPTION:Better Together!\nMore than 200 service members from U.S.\, Thailand\, Japan\, Singapore\,South Korea\,Indonesia\,and\nMalaysia gathered on the parade grounds at Camp Suranaree\,Thailand\,Feb.25\,to usher in the start of\nCobra Gold 2025. \n＂We share a goal in this region: to prevent war by remaining ready together\,” said Gen. Ronald P.Clark\,the\ncommanding general of U.S.Army Pacific.”Preventing war requires many thanks\,so thank you to Thailand\nfor putting in the effort this year for the 44th annual Cobra Gold Exercise.” \nThe opening ceremony marks the 44th iteration of Cobra Gold\,which started in 1982 and is the largest\nexercise in mainland Asia. This year\,more than 3\,200 U.S.service members are participating in the\nexercise\,where they will be working side by side with allies and partners to participate in joint training\,\nmultinational engagements and humanitarian projects.
URL:https://jusmagthai.org/event/cobra-gold-exercise-2025-open-ceremony-gen-ronald-clark-speech/
CATEGORIES:Event
ATTACH;FMTTYPE=image/jpeg:https://jusmagthai.org/wp-content/uploads/2025/01/LINE_ALBUM_Better-together_250318_1.jpg
END:VEVENT
BEGIN:VEVENT
DTSTART;VALUE=DATE:20250225
DTEND;VALUE=DATE:20250226
DTSTAMP:20260424T210418
CREATED:20250225T010007Z
LAST-MODIFIED:20250330T074922Z
UID:555-1740441600-1740527999@jusmagthai.org
SUMMARY:COBRA GOLD EXERCISE 2025: Open ceremony
DESCRIPTION:We’re in full swing with exercise Cobra Gold 25 and are excited to be here together with 30 different nations. \nThis 44th iteration of Joint Exercise Cobra Gold\,the largest joint exercise in mainland Asia\,is a commitment to a free\nand open Indo-Pacific region\,which cements long-term partnerships and forges new friendships! \nThe seven participating nations are:\nThailand\,United States\,Japan\,Singapore\,South Korea\,Indonesia and Malaysia \nThree limited participants:\nChina-Participating in humanitarian assistance programs\nIndia-Participating in humanitarian assistance programs\nAustralia-Participating in command and control segments \nAdditionally\, approximately 20 other nations are engaged in Cobra Gold 2025 as part of the Multinational Planning\nAugmentation Team or as observer nations\, bringing the total number of participating countries to around 30\,with\nmore than 8\,000 personnel involved.
URL:https://jusmagthai.org/event/cobra-gold-exercise-2025-open-ceremony/
CATEGORIES:Event
ATTACH;FMTTYPE=image/jpeg:https://jusmagthai.org/wp-content/uploads/2025/01/LINE_ALBUM_CG25-Open-ceremony_250318_2.jpg
END:VEVENT
BEGIN:VEVENT
DTSTART;VALUE=DATE:20250217
DTEND;VALUE=DATE:20250218
DTSTAMP:20260424T210418
CREATED:20241231T170042Z
LAST-MODIFIED:20250330T075425Z
UID:201-1739750400-1739836799@jusmagthai.org
SUMMARY:Presidents' Day
DESCRIPTION:
URL:https://jusmagthai.org/event/presidents-day/
CATEGORIES:Official Holidays,US-Holidays
END:VEVENT
BEGIN:VEVENT
DTSTART;VALUE=DATE:20250120
DTEND;VALUE=DATE:20250121
DTSTAMP:20260424T210418
CREATED:20241231T170002Z
LAST-MODIFIED:20250330T075647Z
UID:183-1737331200-1737417599@jusmagthai.org
SUMMARY:Birthday of Martin Luther King\, Jr
DESCRIPTION:
URL:https://jusmagthai.org/event/birthday-of-martin-luther-king-jr/
CATEGORIES:Official Holidays,US-Holidays
END:VEVENT
BEGIN:VEVENT
DTSTART;VALUE=DATE:20250101
DTEND;VALUE=DATE:20250102
DTSTAMP:20260424T210418
CREATED:20241231T170019Z
LAST-MODIFIED:20250330T075656Z
UID:181-1735689600-1735775999@jusmagthai.org
SUMMARY:New Year’s Day
DESCRIPTION:
URL:https://jusmagthai.org/event/new-years-day/
CATEGORIES:Official Holidays,US-Holidays
END:VEVENT
END:VCALENDAR