BEGIN:VCALENDAR
VERSION:2.0
PRODID:-//JUSMAGTHAI - ECPv6.14.2//NONSGML v1.0//EN
CALSCALE:GREGORIAN
METHOD:PUBLISH
X-WR-CALNAME:JUSMAGTHAI
X-ORIGINAL-URL:https://jusmagthai.org
X-WR-CALDESC:Events for JUSMAGTHAI
REFRESH-INTERVAL;VALUE=DURATION:PT1H
X-Robots-Tag:noindex
X-PUBLISHED-TTL:PT1H
BEGIN:VTIMEZONE
TZID:Asia/Bangkok
BEGIN:STANDARD
TZOFFSETFROM:+0700
TZOFFSETTO:+0700
TZNAME:+07
DTSTART:20250101T000000
END:STANDARD
END:VTIMEZONE
BEGIN:VEVENT
DTSTART;VALUE=DATE:20250225
DTEND;VALUE=DATE:20250226
DTSTAMP:20260424T215011
CREATED:20250225T010007Z
LAST-MODIFIED:20250330T074922Z
UID:555-1740441600-1740527999@jusmagthai.org
SUMMARY:COBRA GOLD EXERCISE 2025: Open ceremony
DESCRIPTION:We’re in full swing with exercise Cobra Gold 25 and are excited to be here together with 30 different nations. \nThis 44th iteration of Joint Exercise Cobra Gold\,the largest joint exercise in mainland Asia\,is a commitment to a free\nand open Indo-Pacific region\,which cements long-term partnerships and forges new friendships! \nThe seven participating nations are:\nThailand\,United States\,Japan\,Singapore\,South Korea\,Indonesia and Malaysia \nThree limited participants:\nChina-Participating in humanitarian assistance programs\nIndia-Participating in humanitarian assistance programs\nAustralia-Participating in command and control segments \nAdditionally\, approximately 20 other nations are engaged in Cobra Gold 2025 as part of the Multinational Planning\nAugmentation Team or as observer nations\, bringing the total number of participating countries to around 30\,with\nmore than 8\,000 personnel involved.
URL:https://jusmagthai.org/event/cobra-gold-exercise-2025-open-ceremony/
CATEGORIES:Event
ATTACH;FMTTYPE=image/jpeg:https://jusmagthai.org/wp-content/uploads/2025/01/LINE_ALBUM_CG25-Open-ceremony_250318_2.jpg
END:VEVENT
BEGIN:VEVENT
DTSTART;VALUE=DATE:20250217
DTEND;VALUE=DATE:20250218
DTSTAMP:20260424T215011
CREATED:20241231T170042Z
LAST-MODIFIED:20250330T075425Z
UID:201-1739750400-1739836799@jusmagthai.org
SUMMARY:Presidents' Day
DESCRIPTION:
URL:https://jusmagthai.org/event/presidents-day/
CATEGORIES:Official Holidays,US-Holidays
END:VEVENT
BEGIN:VEVENT
DTSTART;VALUE=DATE:20250120
DTEND;VALUE=DATE:20250121
DTSTAMP:20260424T215011
CREATED:20241231T170002Z
LAST-MODIFIED:20250330T075647Z
UID:183-1737331200-1737417599@jusmagthai.org
SUMMARY:Birthday of Martin Luther King\, Jr
DESCRIPTION:
URL:https://jusmagthai.org/event/birthday-of-martin-luther-king-jr/
CATEGORIES:Official Holidays,US-Holidays
END:VEVENT
BEGIN:VEVENT
DTSTART;VALUE=DATE:20250101
DTEND;VALUE=DATE:20250102
DTSTAMP:20260424T215011
CREATED:20241231T170019Z
LAST-MODIFIED:20250330T075656Z
UID:181-1735689600-1735775999@jusmagthai.org
SUMMARY:New Year’s Day
DESCRIPTION:
URL:https://jusmagthai.org/event/new-years-day/
CATEGORIES:Official Holidays,US-Holidays
END:VEVENT
END:VCALENDAR